BEGIN:VCALENDAR
VERSION:2.0
CALSCALE:GREGORIAN
PRODID:adamgibbons/ics
METHOD:PUBLISH
X-PUBLISHED-TTL:PT1H
BEGIN:VEVENT
UID:76@events.translife.fyi
SUMMARY:31. Budapest Pride felvonulás
DTSTAMP:20260419T123615Z
DTSTART:20260627T120000Z
DTEND:20260627T160000Z
URL:https://events.translife.fyi/event/31-budapest-pride-felvonulas
LOCATION:Budapest - Budapest
STATUS:CONFIRMED
CATEGORIES:Budapest,Budapest Pride
END:VEVENT
BEGIN:VEVENT
UID:66@events.translife.fyi
SUMMARY:Budapest Pride RAINBOW PARTY 2026 - hivatalos afterparty
DTSTAMP:20260419T123615Z
DTSTART:20260627T200000Z
DTEND:20260628T020000Z
URL:https://events.translife.fyi/event/budapest-pride-rainbow-party-2026-hi
	vatalos-afterparty
LOCATION:Budapest Park - Budapest\, Fábián Juli tér 1\, 1095
STATUS:CONFIRMED
CATEGORIES:Budapest,Budapest Pride
END:VEVENT
END:VCALENDAR
